BEGIN:VCALENDAR
VERSION:2.0
PRODID:-//Great Longstone Parish Council//Meeting Calendar//EN
CALSCALE:GREGORIAN
METHOD:PUBLISH
BEGIN:VEVENT
UID:79013-20100217@greatlongstone-pc.gov.uk
DTSTAMP:20260424T083456Z
DTSTART;VALUE=DATE:20100217
DTEND;VALUE=DATE:20100218
SUMMARY:Council Meeting &#8211\\; 17th February 2010
DESCRIPTION:Full Council Meeting\nView details: https://greatlongstone-pc.gov.uk/meetings/council-meeting-17th-february-2010/
URL:https://greatlongstone-pc.gov.uk/meetings/council-meeting-17th-february-2010/
END:VEVENT
END:VCALENDAR
