BEGIN:VCALENDAR
VERSION:2.0
PRODID:-//Great Longstone Parish Council//Meeting Calendar//EN
CALSCALE:GREGORIAN
METHOD:PUBLISH
BEGIN:VEVENT
UID:79011-20100317@greatlongstone-pc.gov.uk
DTSTAMP:20260422T090402Z
DTSTART;VALUE=DATE:20100317
DTEND;VALUE=DATE:20100318
SUMMARY:Council Meeting &#8211\\; 17th March 2010
DESCRIPTION:Full Council Meeting\nView details: https://greatlongstone-pc.gov.uk/meetings/council-meeting-17th-march-2010/
URL:https://greatlongstone-pc.gov.uk/meetings/council-meeting-17th-march-2010/
END:VEVENT
END:VCALENDAR
