BEGIN:VCALENDAR
VERSION:2.0
PRODID:-//Great Longstone Parish Council//Meeting Calendar//EN
CALSCALE:GREGORIAN
METHOD:PUBLISH
BEGIN:VEVENT
UID:79007-20100519@greatlongstone-pc.gov.uk
DTSTAMP:20260422T052010Z
DTSTART;VALUE=DATE:20100519
DTEND;VALUE=DATE:20100520
SUMMARY:Council Meeting &#8211\\; 19th May 2010
DESCRIPTION:Full Council Meeting\nView details: https://greatlongstone-pc.gov.uk/meetings/council-meeting-19th-may-2010/
URL:https://greatlongstone-pc.gov.uk/meetings/council-meeting-19th-may-2010/
END:VEVENT
END:VCALENDAR
