BEGIN:VCALENDAR
VERSION:2.0
PRODID:-//Great Longstone Parish Council//Meeting Calendar//EN
CALSCALE:GREGORIAN
METHOD:PUBLISH
BEGIN:VEVENT
UID:79005-20100616@greatlongstone-pc.gov.uk
DTSTAMP:20260422T034240Z
DTSTART;VALUE=DATE:20100616
DTEND;VALUE=DATE:20100617
SUMMARY:Council Meeting &#8211\\; 16th June 2010
DESCRIPTION:Full Council Meeting\nView details: https://greatlongstone-pc.gov.uk/meetings/council-meeting-16th-june-2010/
URL:https://greatlongstone-pc.gov.uk/meetings/council-meeting-16th-june-2010/
END:VEVENT
END:VCALENDAR
