BEGIN:VCALENDAR
VERSION:2.0
PRODID:-//Great Longstone Parish Council//Meeting Calendar//EN
CALSCALE:GREGORIAN
METHOD:PUBLISH
BEGIN:VEVENT
UID:79003-20100721@greatlongstone-pc.gov.uk
DTSTAMP:20260422T014750Z
DTSTART;VALUE=DATE:20100721
DTEND;VALUE=DATE:20100722
SUMMARY:Council Meeting &#8211\\; 21st July 2010
DESCRIPTION:Full Council Meeting\nView details: https://greatlongstone-pc.gov.uk/meetings/council-meeting-21st-july-2010/
URL:https://greatlongstone-pc.gov.uk/meetings/council-meeting-21st-july-2010/
END:VEVENT
END:VCALENDAR
