BEGIN:VCALENDAR
VERSION:2.0
PRODID:-//Great Longstone Parish Council//Meeting Calendar//EN
CALSCALE:GREGORIAN
METHOD:PUBLISH
BEGIN:VEVENT
UID:79001-20100818@greatlongstone-pc.gov.uk
DTSTAMP:20260421T234453Z
DTSTART;VALUE=DATE:20100818
DTEND;VALUE=DATE:20100819
SUMMARY:Council Meeting &#8211\\; 18th August 2010
DESCRIPTION:Full Council Meeting\nView details: https://greatlongstone-pc.gov.uk/meetings/council-meeting-18th-august-2010/
URL:https://greatlongstone-pc.gov.uk/meetings/council-meeting-18th-august-2010/
END:VEVENT
END:VCALENDAR
