BEGIN:VCALENDAR
VERSION:2.0
PRODID:-//Great Longstone Parish Council//Meeting Calendar//EN
CALSCALE:GREGORIAN
METHOD:PUBLISH
BEGIN:VEVENT
UID:78999-20100915@greatlongstone-pc.gov.uk
DTSTAMP:20260421T214557Z
DTSTART;VALUE=DATE:20100915
DTEND;VALUE=DATE:20100916
SUMMARY:Council Meeting &#8211\\; 15th September 2010
DESCRIPTION:Full Council Meeting\nView details: https://greatlongstone-pc.gov.uk/meetings/council-meeting-15th-september-2010/
URL:https://greatlongstone-pc.gov.uk/meetings/council-meeting-15th-september-2010/
END:VEVENT
END:VCALENDAR
