BEGIN:VCALENDAR
VERSION:2.0
PRODID:-//Great Longstone Parish Council//Meeting Calendar//EN
CALSCALE:GREGORIAN
METHOD:PUBLISH
BEGIN:VEVENT
UID:78997-20101020@greatlongstone-pc.gov.uk
DTSTAMP:20260421T195724Z
DTSTART;VALUE=DATE:20101020
DTEND;VALUE=DATE:20101021
SUMMARY:Council Meeting &#8211\\; 20th October 2010
DESCRIPTION:Full Council Meeting\nView details: https://greatlongstone-pc.gov.uk/meetings/council-meeting-20th-october-2010/
URL:https://greatlongstone-pc.gov.uk/meetings/council-meeting-20th-october-2010/
END:VEVENT
END:VCALENDAR
