BEGIN:VCALENDAR
VERSION:2.0
PRODID:-//Great Longstone Parish Council//Meeting Calendar//EN
CALSCALE:GREGORIAN
METHOD:PUBLISH
BEGIN:VEVENT
UID:78995-20101117@greatlongstone-pc.gov.uk
DTSTAMP:20260421T181919Z
DTSTART;VALUE=DATE:20101117
DTEND;VALUE=DATE:20101118
SUMMARY:Council Meeting &#8211\\; 17th November 2010
DESCRIPTION:Full Council Meeting\nView details: https://greatlongstone-pc.gov.uk/meetings/council-meeting-17th-november-2010/
URL:https://greatlongstone-pc.gov.uk/meetings/council-meeting-17th-november-2010/
END:VEVENT
END:VCALENDAR
