BEGIN:VCALENDAR
VERSION:2.0
PRODID:-//Great Longstone Parish Council//Meeting Calendar//EN
CALSCALE:GREGORIAN
METHOD:PUBLISH
BEGIN:VEVENT
UID:78982-20130710@greatlongstone-pc.gov.uk
DTSTAMP:20260421T161730Z
DTSTART;VALUE=DATE:20130710
DTEND;VALUE=DATE:20130711
SUMMARY:Council Meeting &#8211\\; 10th July 2013
DESCRIPTION:Full Council Meeting\nView details: https://greatlongstone-pc.gov.uk/meetings/council-meeting-10th-july-2013/
URL:https://greatlongstone-pc.gov.uk/meetings/council-meeting-10th-july-2013/
END:VEVENT
END:VCALENDAR
