BEGIN:VCALENDAR
VERSION:2.0
PRODID:-//Great Longstone Parish Council//Meeting Calendar//EN
CALSCALE:GREGORIAN
METHOD:PUBLISH
BEGIN:VEVENT
UID:78976-20131016@greatlongstone-pc.gov.uk
DTSTAMP:20260421T195930Z
DTSTART;VALUE=DATE:20131016
DTEND;VALUE=DATE:20131017
SUMMARY:Council Meeting &#8211\\; 16th October 2013
DESCRIPTION:Full Council Meeting\nView details: https://greatlongstone-pc.gov.uk/meetings/council-meeting-16th-october-2013/
URL:https://greatlongstone-pc.gov.uk/meetings/council-meeting-16th-october-2013/
END:VEVENT
END:VCALENDAR
