BEGIN:VCALENDAR
VERSION:2.0
PRODID:-//Great Longstone Parish Council//Meeting Calendar//EN
CALSCALE:GREGORIAN
METHOD:PUBLISH
BEGIN:VEVENT
UID:78973-20131113@greatlongstone-pc.gov.uk
DTSTAMP:20260421T214642Z
DTSTART;VALUE=DATE:20131113
DTEND;VALUE=DATE:20131114
SUMMARY:Council Meeting &#8211\\; 13th November 2013
DESCRIPTION:Full Council Meeting\nView details: https://greatlongstone-pc.gov.uk/meetings/council-meeting-13th-november-2013/
URL:https://greatlongstone-pc.gov.uk/meetings/council-meeting-13th-november-2013/
END:VEVENT
END:VCALENDAR
