BEGIN:VCALENDAR
VERSION:2.0
PRODID:-//Great Longstone Parish Council//Meeting Calendar//EN
CALSCALE:GREGORIAN
METHOD:PUBLISH
BEGIN:VEVENT
UID:78970-20140108@greatlongstone-pc.gov.uk
DTSTAMP:20260421T234117Z
DTSTART;VALUE=DATE:20140108
DTEND;VALUE=DATE:20140109
SUMMARY:Council Meeting &#8211\\; 8th January 2014
DESCRIPTION:Full Council Meeting\nView details: https://greatlongstone-pc.gov.uk/meetings/council-meeting-8th-january-2014/
URL:https://greatlongstone-pc.gov.uk/meetings/council-meeting-8th-january-2014/
END:VEVENT
END:VCALENDAR
