BEGIN:VCALENDAR
VERSION:2.0
PRODID:-//Great Longstone Parish Council//Meeting Calendar//EN
CALSCALE:GREGORIAN
METHOD:PUBLISH
BEGIN:VEVENT
UID:78967-20140319@greatlongstone-pc.gov.uk
DTSTAMP:20260422T014016Z
DTSTART;VALUE=DATE:20140319
DTEND;VALUE=DATE:20140320
SUMMARY:Council Meeting &#8211\\; 19th March 2014
DESCRIPTION:Full Council Meeting\nView details: https://greatlongstone-pc.gov.uk/meetings/council-meeting-19th-march-2014/
URL:https://greatlongstone-pc.gov.uk/meetings/council-meeting-19th-march-2014/
END:VEVENT
END:VCALENDAR
