BEGIN:VCALENDAR
VERSION:2.0
PRODID:-//Great Longstone Parish Council//Meeting Calendar//EN
CALSCALE:GREGORIAN
METHOD:PUBLISH
BEGIN:VEVENT
UID:78964-20140514@greatlongstone-pc.gov.uk
DTSTAMP:20260422T034040Z
DTSTART;VALUE=DATE:20140514
DTEND;VALUE=DATE:20140515
SUMMARY:Council Meeting &#8211\\; 14th May 2014
DESCRIPTION:Full Council Meeting\nView details: https://greatlongstone-pc.gov.uk/meetings/council-meeting-14th-may-2014/
URL:https://greatlongstone-pc.gov.uk/meetings/council-meeting-14th-may-2014/
END:VEVENT
END:VCALENDAR
