BEGIN:VCALENDAR
VERSION:2.0
PRODID:-//Great Longstone Parish Council//Meeting Calendar//EN
CALSCALE:GREGORIAN
METHOD:PUBLISH
BEGIN:VEVENT
UID:78961-20140709@greatlongstone-pc.gov.uk
DTSTAMP:20260422T053214Z
DTSTART;VALUE=DATE:20140709
DTEND;VALUE=DATE:20140710
SUMMARY:Council Meeting &#8211\\; 9th July 2014
DESCRIPTION:Full Council Meeting\nView details: https://greatlongstone-pc.gov.uk/meetings/council-meeting-9th-july-2014/
URL:https://greatlongstone-pc.gov.uk/meetings/council-meeting-9th-july-2014/
END:VEVENT
END:VCALENDAR
