BEGIN:VCALENDAR
VERSION:2.0
PRODID:-//Great Longstone Parish Council//Meeting Calendar//EN
CALSCALE:GREGORIAN
METHOD:PUBLISH
BEGIN:VEVENT
UID:78955-20141112@greatlongstone-pc.gov.uk
DTSTAMP:20260424T083456Z
DTSTART;VALUE=DATE:20141112
DTEND;VALUE=DATE:20141113
SUMMARY:Council Meeting &#8211\\; 12th November 2014
DESCRIPTION:Full Council Meeting\nView details: https://greatlongstone-pc.gov.uk/meetings/council-meeting-12th-november-2014/
URL:https://greatlongstone-pc.gov.uk/meetings/council-meeting-12th-november-2014/
END:VEVENT
END:VCALENDAR
