BEGIN:VCALENDAR
VERSION:2.0
PRODID:-//Great Longstone Parish Council//Meeting Calendar//EN
CALSCALE:GREGORIAN
METHOD:PUBLISH
BEGIN:VEVENT
UID:78783-19100425@greatlongstone-pc.gov.uk
DTSTAMP:20260422T090334Z
DTSTART;VALUE=DATE:19100425
DTEND;VALUE=DATE:19100426
SUMMARY:Council Meeting &#8211\\; 25th April 1910
DESCRIPTION:Full Council Meeting\nView details: https://greatlongstone-pc.gov.uk/meetings/council-meeting-25th-april-1910/
URL:https://greatlongstone-pc.gov.uk/meetings/council-meeting-25th-april-1910/
END:VEVENT
END:VCALENDAR
