BEGIN:VCALENDAR
VERSION:2.0
PRODID:-//Great Longstone Parish Council//Meeting Calendar//EN
CALSCALE:GREGORIAN
METHOD:PUBLISH
BEGIN:VEVENT
UID:72046-20260129@greatlongstone-pc.gov.uk
DTSTAMP:20260422T085322Z
DTSTART;VALUE=DATE:20260129
DTEND;VALUE=DATE:20260130
SUMMARY:Staffing Committee &#8211\\; 29th January 2026
DESCRIPTION:Staffing Committee Meeting\nView details: https://greatlongstone-pc.gov.uk/meetings/staffing-committee-29th-january-2026/
URL:https://greatlongstone-pc.gov.uk/meetings/staffing-committee-29th-january-2026/
END:VEVENT
END:VCALENDAR
