BEGIN:VCALENDAR
VERSION:2.0
PRODID:-//Great Longstone Parish Council//Meeting Calendar//EN
CALSCALE:GREGORIAN
METHOD:PUBLISH
BEGIN:VEVENT
UID:71641-18950102@greatlongstone-pc.gov.uk
DTSTAMP:20260424T083303Z
DTSTART;VALUE=DATE:18950102
DTEND;VALUE=DATE:18950103
SUMMARY:Council Meeting – 2nd January 1895
DESCRIPTION:Full Council Meeting\nView details: https://greatlongstone-pc.gov.uk/meetings/council-meeting-2nd-january-1895/
URL:https://greatlongstone-pc.gov.uk/meetings/council-meeting-2nd-january-1895/
END:VEVENT
END:VCALENDAR
