BEGIN:VCALENDAR
VERSION:2.0
PRODID:-//Great Longstone Parish Council//Meeting Calendar//EN
CALSCALE:GREGORIAN
METHOD:PUBLISH
BEGIN:VEVENT
UID:71263-20011121@greatlongstone-pc.gov.uk
DTSTAMP:20260425T174836Z
DTSTART;VALUE=DATE:20011121
DTEND;VALUE=DATE:20011122
SUMMARY:Council Meeting &#8211\\; 21st November 2001
DESCRIPTION:Full Council Meeting\nView details: https://greatlongstone-pc.gov.uk/meetings/council-meeting-21st-november-2001/
URL:https://greatlongstone-pc.gov.uk/meetings/council-meeting-21st-november-2001/
END:VEVENT
END:VCALENDAR
