BEGIN:VCALENDAR
VERSION:2.0
PRODID:-//Great Longstone Parish Council//Meeting Calendar//EN
CALSCALE:GREGORIAN
METHOD:PUBLISH
BEGIN:VEVENT
UID:71261-20010919@greatlongstone-pc.gov.uk
DTSTAMP:20260425T140829Z
DTSTART;VALUE=DATE:20010919
DTEND;VALUE=DATE:20010920
SUMMARY:Council Meeting &#8211\\; 19th September 2001
DESCRIPTION:Full Council Meeting\nView details: https://greatlongstone-pc.gov.uk/meetings/council-meeting-19th-september-2001/
URL:https://greatlongstone-pc.gov.uk/meetings/council-meeting-19th-september-2001/
END:VEVENT
END:VCALENDAR
