BEGIN:VCALENDAR
VERSION:2.0
PRODID:-//Great Longstone Parish Council//Meeting Calendar//EN
CALSCALE:GREGORIAN
METHOD:PUBLISH
BEGIN:VEVENT
UID:71260-20010718@greatlongstone-pc.gov.uk
DTSTAMP:20260425T122846Z
DTSTART;VALUE=DATE:20010718
DTEND;VALUE=DATE:20010719
SUMMARY:Council Meeting &#8211\\; 18th July 2001
DESCRIPTION:Full Council Meeting\nView details: https://greatlongstone-pc.gov.uk/meetings/council-meeting-18th-july-2001/
URL:https://greatlongstone-pc.gov.uk/meetings/council-meeting-18th-july-2001/
END:VEVENT
END:VCALENDAR
