BEGIN:VCALENDAR
VERSION:2.0
PRODID:-//Great Longstone Parish Council//Meeting Calendar//EN
CALSCALE:GREGORIAN
METHOD:PUBLISH
BEGIN:VEVENT
UID:71259-20010620@greatlongstone-pc.gov.uk
DTSTAMP:20260425T104401Z
DTSTART;VALUE=DATE:20010620
DTEND;VALUE=DATE:20010621
SUMMARY:Council Meeting &#8211\\; 20th June 2001
DESCRIPTION:Full Council Meeting\nView details: https://greatlongstone-pc.gov.uk/meetings/council-meeting-20th-june-2001/
URL:https://greatlongstone-pc.gov.uk/meetings/council-meeting-20th-june-2001/
END:VEVENT
END:VCALENDAR
