BEGIN:VCALENDAR
VERSION:2.0
PRODID:-//Great Longstone Parish Council//Meeting Calendar//EN
CALSCALE:GREGORIAN
METHOD:PUBLISH
BEGIN:VEVENT
UID:71147-20000726@greatlongstone-pc.gov.uk
DTSTAMP:20260422T085428Z
DTSTART;VALUE=DATE:20000726
DTEND;VALUE=DATE:20000727
SUMMARY:Council Meeting &#8211\\; 26th July 2000
DESCRIPTION:Full Council Meeting\nView details: https://greatlongstone-pc.gov.uk/meetings/council-meeting-26th-july-2000/
URL:https://greatlongstone-pc.gov.uk/meetings/council-meeting-26th-july-2000/
END:VEVENT
END:VCALENDAR
